BEGIN:VCALENDAR
VERSION:2.0
PRODID:-//ChamberMaster//Event Calendar 2.0//EN
METHOD:PUBLISH
X-PUBLISHED-TTL:P3D
REFRESH-INTERVAL:P3D
CALSCALE:GREGORIAN
BEGIN:VEVENT
DTSTART:20210518T170000Z
DTEND:20210518T180000Z
X-MICROSOFT-CDO-ALLDAYEVENT:FALSE
SUMMARY:Women Impacting the Community 2021
DESCRIPTION:Join TACC to help celebrate the 2021 Women Impacting the Community on Tuesday\, May 18th at 12 pm hosted at Lakewood Golf & Country Club. \n\n\n\nNominate an impactful woman from each category:\n\nBusiness\n\nCommunity Service \n\nEducation\n\nLifetime Achievement \n\nDeadline to nominate May 5th
X-ALT-DESC;FMTTYPE=text/html:<span style="font-size:14px\;"><strong>Join TACC to help celebrate the 2021 Women Impacting the Community on Tuesday\, May 18th at 12 pm hosted at Lakewood Golf &amp\; Country Club.&nbsp\;</strong></span><br />\n<br />\n<strong>Nominate an impactful woman from each category:</strong><br />\nBusiness<br />\nCommunity Service&nbsp\;<br />\nEducation<br />\nLifetime Achievement&nbsp\;<br />\n<strong>Deadline to nominate May 5th</strong><br />\n<br />\n<br />\n&nbsp\;
LOCATION:Lakewood Golf & Country Club 1900 Country Club Dr\, Tullahoma\, TN 37388
UID:e.2336.8044
SEQUENCE:3
DTSTAMP:20260420T124101Z
URL:https://chamber.tullahoma.org/events/details/women-impacting-the-community-2021-8044
END:VEVENT

END:VCALENDAR
