BEGIN:VCALENDAR
VERSION:2.0
PRODID:-//ChamberMaster//Event Calendar 2.0//EN
METHOD:PUBLISH
X-PUBLISHED-TTL:P3D
REFRESH-INTERVAL:P3D
CALSCALE:GREGORIAN
BEGIN:VEVENT
DTSTART:20200917T150000Z
DTEND:20200917T160000Z
X-MICROSOFT-CDO-ALLDAYEVENT:FALSE
SUMMARY:United Way of Hwy 55 Ribbon Cutting
DESCRIPTION:United Way of Highway 55 serves the counties of Coffee\, Moore and Warren by increasing access to education\, health\, basic essentials and income. We support local partner nonprofits as well as fill the needs of the community by collaborating with businesses\, churches\, individuals\, schools\, etc. For 2020-2021\, we have 16 local nonprofits that we allocate funds to. All donations stay in our community to support many missions. To learn more about United Way of Hwy 55\, click here. \n\n\n\n*Masks and social distancing is strongly recommended*
X-ALT-DESC;FMTTYPE=text/html:United Way of Highway 55 serves the counties of Coffee\, Moore and Warren by increasing access to education\, health\, basic essentials and income. We support local partner nonprofits as well as fill the needs of the community by collaborating with businesses\, churches\, individuals\, schools\, etc. For 2020-2021\, we have 16 local nonprofits that we allocate funds to. All donations stay in our community to support many missions. To learn more about United Way of Hwy 55\, <a href="http://highway55unitedway.org">click here.&nbsp\;</a><br />\n<br />\n*Masks and social distancing is strongly recommended*
LOCATION:101 W. Lincoln St. Tullahoma TN 37388
UID:e.2336.7768
SEQUENCE:3
DTSTAMP:20260426T003117Z
URL:https://chamber.tullahoma.org/events/details/united-way-of-hwy-55-ribbon-cutting-7768
END:VEVENT

END:VCALENDAR
