BEGIN:VCALENDAR
VERSION:2.0
PRODID:-//ChamberMaster//Event Calendar 2.0//EN
METHOD:PUBLISH
X-PUBLISHED-TTL:P3D
REFRESH-INTERVAL:P3D
CALSCALE:GREGORIAN
BEGIN:VEVENT
DTSTART:20260514T160000Z
DTEND:20260514T163000Z
X-MICROSOFT-CDO-ALLDAYEVENT:FALSE
SUMMARY:Ribbon Cutting: Hands-On Science Center
DESCRIPTION:Join us in celebrating Riley the Axolotl at the Hands-On Science Center! This name was submitted by Nolan Hice in honor of his little brother\, Riley\, who passed away last year. Riley was born with heart complications related to Down Syndrome\, and his life left a lasting impact on those around him.
X-ALT-DESC;FMTTYPE=text/html:<div class="x14z9mp xat24cr x1lziwak x1vvkbs xtlvy1s" style="margin-inline: 0px\; overflow-wrap: break-word\; margin-bottom: 0px\; margin-top: 0.5em\; font-family: inherit\;">Join us in celebrating Riley the Axolotl at the Hands-On Science Center! This name was submitted by Nolan Hice in honor of his little brother\, Riley\, who passed away last year. Riley was born with heart complications related to Down Syndrome\, and his life left a lasting impact on those around him.&nbsp\;</div>\n
LOCATION:Hands-On Science Center
UID:e.2336.9271
SEQUENCE:3
DTSTAMP:20260420T192647Z
URL:https://chamber.tullahoma.org/events/details/ribbon-cutting-hands-on-science-center-9271
END:VEVENT

END:VCALENDAR
