BEGIN:VCALENDAR
VERSION:2.0
PRODID:-//ChamberMaster//Event Calendar 2.0//EN
METHOD:PUBLISH
X-PUBLISHED-TTL:P3D
REFRESH-INTERVAL:P3D
CALSCALE:GREGORIAN
BEGIN:VEVENT
DTSTART:20180224T130000Z
DTEND:20180224T180000Z
X-MICROSOFT-CDO-ALLDAYEVENT:FALSE
SUMMARY:Free Dental Day from Tullahoma Cares
DESCRIPTION:Extractions ONLY! The limit is 2 teeth if next to each other. It may be possible to have more\, if time allows. \n\n\n\nLimited availability. BE EARLY to be ensured you are seen. \n\n\n\nFor more details visit our Facebook page or www.tullahomacares.wordpress.com
X-ALT-DESC;FMTTYPE=text/html:<p>Extractions ONLY! The limit is 2 teeth if next to each other. It may be possible to have more\, if time allows.&nbsp\;<br />\n<br />\nLimited availability. BE EARLY to be ensured&nbsp\;you are seen.&nbsp\;<br />\n<br />\nFor more details visit our Facebook page or www.tullahomacares.wordpress.com</p>\n
LOCATION:Park at Lowe's as far away from the entrance of Lowe's and Verizon as possible. A FREE shuttle will take you to the BREAKFREE WORSHIP CENTER.
UID:e.2336.2036
SEQUENCE:3
DTSTAMP:20260424T192552Z
URL:https://chamber.tullahoma.org/events/details/free-dental-day-from-tullahoma-cares-2036
END:VEVENT

END:VCALENDAR
