BEGIN:VCALENDAR
VERSION:2.0
PRODID:-//ChamberMaster//Event Calendar 2.0//EN
METHOD:PUBLISH
X-PUBLISHED-TTL:P3D
REFRESH-INTERVAL:P3D
CALSCALE:GREGORIAN
BEGIN:VEVENT
DTSTART:20230414T160000Z
DTEND:20230414T223000Z
X-MICROSOFT-CDO-ALLDAYEVENT:FALSE
SUMMARY:2023 Spring Chamber Classic
DESCRIPTION:2023 Spring Chamber Classic sponsored by First Vision Bank will be hosted on Friday\, April 14th at 11 a.m.\n\n\n\nYou are encouraged to reserve your teams quickly\, as this tournament fills up fast! \n\n\n\nThe cost is $500 per team.\n\nThe cost includes \n\n	4 person scramble \n	box lunch\n	2 carts per team\n	greens fees \n	beverages provided \n	Mulligans included in package
X-ALT-DESC;FMTTYPE=text/html:<b>2023 Spring Chamber Classic sponsored by First Vision Bank will be hosted on Friday\, April 14th at 11 a.m.<br />\n<br />\nYou are encouraged to reserve your teams quickly\, as this tournament fills up fast!&nbsp\;<br />\n<br />\nThe cost is $500 per team.<br />\nThe cost includes&nbsp\;</b>\n<ul>\n	<li><b>4 person scramble&nbsp\;</b></li>\n	<li><b>box lunch</b></li>\n	<li><b>2 carts per team</b></li>\n	<li><b>greens fees&nbsp\;</b></li>\n	<li><b>beverages provided&nbsp\;</b></li>\n	<li><b>Mulligans included in package&nbsp\;</b></li>\n</ul>\n
LOCATION:Lakewood Golf & Country Club 1900 Country Club Dr. Tullahoma\, TN 37388
UID:e.2336.8557
SEQUENCE:3
DTSTAMP:20260423T151157Z
URL:https://chamber.tullahoma.org/events/details/2023-spring-chamber-classic-8557
END:VEVENT

END:VCALENDAR
